BEGIN:VCALENDAR
VERSION:2.0
PRODID:-//https://rpayc.com.au///NONSGML kigkonsult.se iCalcreator 2.10.15//
METHOD:PUBLISH
BEGIN:VEVENT
UID:20200301T211553UTC-4041I6IK7b@https://rpayc.com.au/
DTSTAMP:20200301T211553Z
DESCRIPTION:RPAYC Adult Keelboat LTS: Start Helming - Sat PM March 2020 (12
 hrs)\n&nbsp\;Registration for course closes at Sat 29 Feb 2020 23:59.\n\n&
 nbsp\;&nbsp\;Four sessions are scheduled for the following dates/times\;\n
 .\nAll session times are 1pm-4pm\n.\nSat 07 Mar 2020 (3hrs)\nSat 14 Mar 20
 20 (3hrs)\nSat 21 Mar 2020 (3hrs)**\nSat 28 Mar 2020 (3hrs)**\n.\n&nbsp\;&
 nbsp\;Discover Sailing Centre (RPAYC)\, Royal Prince Alfred Yacht Club\, 1
 6 Mitala St\, Newport NSW 2106\n&nbsp\;&nbsp\;Australian Sailing - Start H
 elming\n\nREGISTER&nbsp\;\n&nbsp\;Course Overview\nThis course develops bo
 th your theory and practical skills to confidently take control on the hel
 m.Course PrerequisitesWater confident and the skills\, knowledge and exper
 ience you gained from Start Crewing.Who should do this course?This course 
 is designed for participants who want to learn how to helm a keelboat\, an
 d continue their skill development as crew.Course OutcomeYou will gain you
 r&nbsp\;Start Helming completion certificate.&nbsp\;\n&nbsp\;RPAYC INFORMA
 TIONThe RPAYC&nbsp\;Discover Sailing Centre is pleased to welcome particip
 ants to our&nbsp\;Adult Learn to Sail&nbsp\;Program (Start Helming) for Ma
 rch 2020.&nbsp\;This course will include&nbsp\;four&nbsp\;sessions\, condu
 cted over the days as listed above.**Please note - there are Major Events 
 scheduled at RPAYC on 21st &amp\; 28th March\, hence allow extra time prio
 r to arriving to locate car parking.Training will be conducted on the Club
 's fleet of Elliott 7 Keelboats.The RPAYC&nbsp\;Discover Sailing&nbsp\;Cen
 tre abides by the Australian Sailing Instructor/Student ratios\, hence pla
 ces are strictly limited. All courses are subject to change with limited n
 otice\, based on demand and availability. To avoid disappointment\, we rec
 ommend registering early.There are four&nbsp\;registration fee categories 
 available for&nbsp\;this Course:$450.00^ - RPAYC Members$485.00^ - RPAYC M
 embers (Includes Text&nbsp\;&amp\; Log Book)$500.00&nbsp\;- Non Members$53
 5.00 - Non Members (Includes Text &amp\; Log Book)^To be eligible for the 
 'Member Discounted Fee'\, the participating 'Member' is required to be fin
 ancial for the 2019 / 2020 Membership Season (through until 30th April 202
 0).Optional Australian Sailing Course Pack\, including Text Book and Log B
 ook\, is available for an additional $35.00.&nbsp\; https://rpayc.com.au/n
 ews-events/event-calendar/event/6328-adult-keelboat-lts-start-helming
DTSTART:20200307T130000Z
DTEND:20200307T170000Z
LOCATION:The Royal Prince Alfred Yacht Club\, Broken Bay\, NSW (16 Mitala S
 t\, Newport NSW 2106\, Australia)
SUMMARY:Adult Keelboat LTS: Start Helming
URL:https://rpayc.com.au/news-events/event-calendar/event/6328-adult-keelbo
 at-lts-start-helming
END:VEVENT
END:VCALENDAR
