BEGIN:VCALENDAR
VERSION:2.0
PRODID:-//https://rpayc.com.au///NONSGML kigkonsult.se iCalcreator 2.10.15//
METHOD:PUBLISH
BEGIN:VEVENT
UID:20200301T211647UTC-2039co4303@https://rpayc.com.au/
DTSTAMP:20200301T211647Z
DESCRIPTION:RPAYC Adult Keelboat LTS: Start Skippering - Sun PM March 2020 
 (12hrs)\n&nbsp\;Registration for course closes at Sun 01 Mar 2020 23:59.\n
 \n&nbsp\;&nbsp\;Four sessions are scheduled for the following dates/times\
 ;\n.\nAll session times are 1pm-4pm\n.\nSun 08 Mar 2020 (3hrs)\nSun 15 Mar
  2020 (3hrs)\nSun 22 Mar 2020 (3hrs)**\nSun 29 Mar 2020 (3hrs)**\n.\n&nbsp
 \;&nbsp\;Discover Sailing Centre (RPAYC)\, Royal Prince Alfred Yacht Club\
 , 16 Mitala St\, Newport NSW 2106\n&nbsp\;&nbsp\;Australian Sailing - Star
 t Skippering\n\nREGISTER&nbsp\;\n&nbsp\;Course Overview\nYou will now adva
 nce your sailing skills and safety knowledge to enable you to skipper unsu
 pervised in sheltered waters.Course PrerequisitesWater confident and the s
 kills\, knowledge and experience&nbsp\;you've gained from completing the S
 tart Crewing and Start Helming courses.Who should do this course?This cour
 se is designed for participants who wish to begin skippering a keelboat\, 
 unsupervised.Course OutcomeYou will gain your&nbsp\;Start Skippering compl
 etion certificate.&nbsp\;\n&nbsp\;RPAYC INFORMATIONThe RPAYC&nbsp\;Discove
 r Sailing Centre is pleased to welcome participants to our&nbsp\;Adult Lea
 rn to Sail&nbsp\;Program (Start Skippering) for March&nbsp\;2020.&nbsp\;Th
 is course will include&nbsp\;four&nbsp\;sessions\, conducted over the days
  as listed above.**Please note - there are Major Events scheduled at RPAYC
  on 22nd&nbsp\;&amp\; 29th March\, hence allow extra time prior to arrivin
 g to locate car parking.Training will be conducted on the Club's fleet of 
 Elliott 7 Keelboats.The RPAYC&nbsp\;Discover Sailing&nbsp\;Centre abides b
 y the Australian Sailing Instructor/Student ratios\, hence places are stri
 ctly limited. All courses are subject to change with limited notice\, base
 d on demand and availability. To avoid disappointment\, we recommend regis
 tering early.There are four&nbsp\;registration fee categories available fo
 r&nbsp\;this Course:$450.00^ - RPAYC Members$485.00^ - RPAYC Members (Incl
 udes Text&nbsp\;&amp\; Log Book)$500.00&nbsp\;- Non Members$535.00 - Non M
 embers (Includes Text &amp\; Log Book)^To be eligible for the 'Member Disc
 ounted Fee'\, the participating 'Member' is required to be financial for t
 he 2019 / 2020 Membership Season (through until 30th April 2020).Optional 
 Australian Sailing Course Pack\, including Text Book and Log Book\, is ava
 ilable for an additional $35.00. https://rpayc.com.au/news-events/event-ca
 lendar/event/6315-adult-keelboat-lts-start-skippering
DTSTART:20200322T130000Z
DTEND:20200322T170000Z
LOCATION:The Royal Prince Alfred Yacht Club\, Broken Bay\, NSW (16 Mitala S
 t\, Newport NSW 2106\, Australia)
SUMMARY:Adult Keelboat LTS: Start Skippering
URL:https://rpayc.com.au/news-events/event-calendar/event/6315-adult-keelbo
 at-lts-start-skippering
END:VEVENT
END:VCALENDAR
