BEGIN:VCALENDAR
VERSION:2.0
PRODID:-//https://rpayc.com.au///NONSGML kigkonsult.se iCalcreator 2.10.15//
METHOD:PUBLISH
BEGIN:VEVENT
UID:20200301T211736UTC-6826XU7AVP@https://rpayc.com.au/
DTSTAMP:20200301T211736Z
DESCRIPTION: https://rpayc.com.au/news-events/event-calendar/event/6281-clu
 b-marine-pittwater-sail-expo
DTSTART:20200322T100000Z
DTEND:20200323T160000Z
LOCATION:The Royal Prince Alfred Yacht Club\, Broken Bay\, NSW (16 Mitala S
 t\, Newport NSW 2106\, Australia)
SUMMARY:Club Marine Pittwater  SAIL EXPO 
URL:https://rpayc.com.au/news-events/event-calendar/event/6281-club-marine-
 pittwater-sail-expo
END:VEVENT
END:VCALENDAR
